BEGIN:VCALENDAR
VERSION:2.0
PRODID:-//Prana World Malaysia
CALSCALE:GREGORIAN
METHOD:PUBLISH
X-WR-CALNAME:Prana World Malaysia
X-ORIGINAL-URL:https://malaysia.pranaworld.net/event/the-incredible-you-seminar-15-oct-2016/
X-WR-CALDESC:The Incredible You Seminar (15 Oct 2016)
BEGIN:VEVENT
DTSTART:20161015T140000
DTEND:20161015T170000
SUMMARY:The Incredible You Seminar (15 Oct 2016)
DESCRIPTION:<h4>Develop your self confidence and build a magnificent self-image!</h4>
LOCATION:A-3-3 Centrio Hillpark, Bangsar South, Kuala Lumpur
END:VEVENT
END:VCALENDAR
