BEGIN:VCALENDAR
VERSION:2.0
PRODID:-//Prana World Malaysia
CALSCALE:GREGORIAN
METHOD:PUBLISH
X-WR-CALNAME:Prana World Malaysia
X-ORIGINAL-URL:https://malaysia.pranaworld.net/event/the-art-of-relationship-healing-seminar-12-feb-2017/
X-WR-CALDESC:The Art of Relationship Healing Seminar (12 Feb 2017)
BEGIN:VEVENT
DTSTART:20170212T180000
DTEND:20170212T210000
SUMMARY:The Art of Relationship Healing Seminar (12 Feb 2017)
DESCRIPTION:<h4>A relationship can be improved by working on it!!! Become the soulful artist of your Relationship.</h4>
LOCATION:A-3-3 Centrio Hillpark, Bangsar South, Kuala Lumpur
END:VEVENT
END:VCALENDAR
