BEGIN:VCALENDAR
VERSION:2.0
PRODID:-//Prana World Malaysia
CALSCALE:GREGORIAN
METHOD:PUBLISH
X-WR-CALNAME:Prana World Malaysia
X-ORIGINAL-URL:https://malaysia.pranaworld.net/event/an-evening-with-master-faith-17-apr-2015/
X-WR-CALDESC:An Evening with Master Faith (17 Apr 2015)
BEGIN:VEVENT
DTSTART:20150417T180000
DTEND:20150417T203000
SUMMARY:An Evening with Master Faith (17 Apr 2015)
DESCRIPTION:<h4>Get inspired and experience mass healing by Master Faith Sawey.</h4>
LOCATION:A-3-3 Centrio Hillpark, Bangsar South, Kuala Lumpur
END:VEVENT
END:VCALENDAR
