BEGIN:VCALENDAR
VERSION:2.0
PRODID:-//Prana World Malaysia
CALSCALE:GREGORIAN
METHOD:PUBLISH
X-WR-CALNAME:Prana World Malaysia
X-ORIGINAL-URL:https://malaysia.pranaworld.net/event/you-and-your-stress-seminar-26-sep-2015/
X-WR-CALDESC:You and Your Stress Seminar (26 Sep 2015)
BEGIN:VEVENT
DTSTART:20150926T140000
DTEND:20150926T170000
SUMMARY:You and Your Stress Seminar (26 Sep 2015)
DESCRIPTION:<h4>Learn how to control your stress through easy and practical techniques.</h4>
LOCATION:Prana World Malaysia | A-3-3 Centrio Hillpark, Bangsar South, KL
END:VEVENT
END:VCALENDAR
