BEGIN:VCALENDAR
VERSION:2.0
PRODID:-//Prana World Malaysia
CALSCALE:GREGORIAN
METHOD:PUBLISH
X-WR-CALNAME:Prana World Malaysia
X-ORIGINAL-URL:https://malaysia.pranaworld.net/event/heal-your-life-29-30-aug-2015/
X-WR-CALDESC:Heal Your Life (29-30 Aug 2015)
BEGIN:VEVENT
DTSTART:20150829T100000
DTEND:20150830T180000
SUMMARY:Heal Your Life (29-30 Aug 2015)
DESCRIPTION:<h4>Heal Your Life is a life-changing experience to bring health, happiness, joy, wealth and peace to your life.</h4>
LOCATION:Prana World Malaysia | A-3-3 Centrio Hillpark, Bangsar South, Kuala Lumpur
END:VEVENT
END:VCALENDAR
