BEGIN:VCALENDAR
VERSION:2.0
PRODID:-//Prana World Malaysia
CALSCALE:GREGORIAN
METHOD:PUBLISH
X-WR-CALNAME:Prana World Malaysia
X-ORIGINAL-URL:https://malaysia.pranaworld.net/event/pull-the-strings-of-karma-seminar-2-aug-2015/
X-WR-CALDESC:Pull the Strings of Karma Seminar (2 Aug 2015)
BEGIN:VEVENT
DTSTART:20150802T140000
DTEND:20150802T170000
SUMMARY:Pull the Strings of Karma Seminar (2 Aug 2015)
DESCRIPTION:<h4>Awesome techniques to generate good karma & neutralize the negative karma.</h4>
LOCATION:Prana World Malaysia | A-3-3 Centrio Hillpark, Bangsar South, KL
END:VEVENT
END:VCALENDAR
