BEGIN:VCALENDAR
VERSION:2.0
PRODID:-//Prana World Malaysia
CALSCALE:GREGORIAN
METHOD:PUBLISH
X-WR-CALNAME:Prana World Malaysia
X-ORIGINAL-URL:https://malaysia.pranaworld.net/event/inner-teachings-of-buddhism-revealed-workshop-21-aug-2015/
X-WR-CALDESC:Inner Teachings of Buddhism Revealed Workshop (21 Aug 2015)
BEGIN:VEVENT
DTSTART:20150821T090000
DTEND:20150821T180000
SUMMARY:Inner Teachings of Buddhism Revealed Workshop (21 Aug 2015)
DESCRIPTION:<h4>Discover the beauties, the wisdom and the essence of Buddhism.</h4>
LOCATION:
END:VEVENT
END:VCALENDAR
