BEGIN:VCALENDAR
VERSION:2.0
PRODID:-//Prana World Malaysia
CALSCALE:GREGORIAN
METHOD:PUBLISH
X-WR-CALNAME:Prana World Malaysia
X-ORIGINAL-URL:https://malaysia.pranaworld.net/event/stand-out-seminar-24-jan-2016/
X-WR-CALDESC:Stand Out &#038; be Different Seminar (24 Jan 2016)
BEGIN:VEVENT
DTSTART:20160124T183000
DTEND:20160124T210000
SUMMARY:Stand Out &#038; be Different Seminar (24 Jan 2016)
DESCRIPTION:<h4>Knowledge & techniques to break your limitations & achieve greater success.</h4>
LOCATION:Prana World Malaysia | A-3-3 Centrio Hillpark, Bangsar South, KL
END:VEVENT
END:VCALENDAR
