BEGIN:VCALENDAR
VERSION:2.0
PRODID:-//Prana World Malaysia
CALSCALE:GREGORIAN
METHOD:PUBLISH
X-WR-CALNAME:Prana World Malaysia
X-ORIGINAL-URL:https://malaysia.pranaworld.net/event/superbrain-yoga-seminar-26-mar-2016/
X-WR-CALDESC:SuperBrain Yoga Seminar (26 Mar 2016)
BEGIN:VEVENT
DTSTART:20160326T170000
DTEND:20160326T200000
SUMMARY:SuperBrain Yoga Seminar (26 Mar 2016)
DESCRIPTION:<h4>The smart way to get smart!</h4>
LOCATION:A-3-3 Centrio Hillpark, Bangsar South, Kuala Lumpur
END:VEVENT
END:VCALENDAR
