BEGIN:VCALENDAR
VERSION:2.0
PRODID:-//Prana World Malaysia
CALSCALE:GREGORIAN
METHOD:PUBLISH
X-WR-CALNAME:Prana World Malaysia
X-ORIGINAL-URL:https://malaysia.pranaworld.net/event/because-im-happy-seminar-14-may-2016/
X-WR-CALDESC:Because I&#8217;m Happy Seminar (14 May 2016)
BEGIN:VEVENT
DTSTART:20160514T183000
DTEND:20160514T213000
SUMMARY:Because I&#8217;m Happy Seminar (14 May 2016)
DESCRIPTION:<h4>15+1 steps followed by easy exercises to make you feel awesomely happy!</h4>
LOCATION:Prana World Malaysia | A-3-3 Centrio Hillpark, Bangsar South, KL
END:VEVENT
END:VCALENDAR
