BEGIN:VCALENDAR
VERSION:2.0
PRODID:-//Prana World Malaysia
CALSCALE:GREGORIAN
METHOD:PUBLISH
X-WR-CALNAME:Prana World Malaysia
X-ORIGINAL-URL:https://malaysia.pranaworld.net/event/arhatic-yoga-workshop-4-5-jun-2016/
X-WR-CALDESC:Arhatic Yoga Workshop (3-4 Jun 2016)
BEGIN:VEVENT
DTSTART:20160603T090000
DTEND:20160604T170000
SUMMARY:Arhatic Yoga Workshop (3-4 Jun 2016)
DESCRIPTION:<h4>Fly to the highest levels of spirituality.</h4>
LOCATION:
END:VEVENT
END:VCALENDAR
