BEGIN:VCALENDAR
VERSION:2.0
PRODID:-//Prana World Malaysia
CALSCALE:GREGORIAN
METHOD:PUBLISH
X-WR-CALNAME:Prana World Malaysia
X-ORIGINAL-URL:https://malaysia.pranaworld.net/event/achieving-oneness-workshop-27-28-march-2021/
X-WR-CALDESC:Achieving Oneness Workshop (27-28 March 2021)
BEGIN:VEVENT
DTSTART:20210327T090000
DTEND:20210328T170000
SUMMARY:Achieving Oneness Workshop (27-28 March 2021)
DESCRIPTION:<h4>Discover stunning spiritual secrets.</h4>
LOCATION:
END:VEVENT
END:VCALENDAR
