BEGIN:VCALENDAR
VERSION:2.0
PRODID:-//Prana World Malaysia
CALSCALE:GREGORIAN
METHOD:PUBLISH
X-WR-CALNAME:Prana World Malaysia
X-ORIGINAL-URL:https://malaysia.pranaworld.net/event/advanced-pranic-healing-workshop-27-28-nov-2021/
X-WR-CALDESC:Advanced Pranic Healing Workshop (27-28 Nov 2021)
BEGIN:VEVENT
DTSTART:20211127T090000
DTEND:20211128T170000
SUMMARY:Advanced Pranic Healing Workshop (27-28 Nov 2021)
DESCRIPTION:<h4>Explore the wonder of color pranas.</h4>
LOCATION:Prana World Malaysia | A-3-3 Centrio Hillpark, Bangsar South, KL
END:VEVENT
END:VCALENDAR
