BEGIN:VCALENDAR
VERSION:2.0
PRODID:-//Prana World Malaysia
CALSCALE:GREGORIAN
METHOD:PUBLISH
X-WR-CALNAME:Prana World Malaysia
X-ORIGINAL-URL:https://malaysia.pranaworld.net/event/pranic-psychotherapy-workshop-15-16-may-2021/
X-WR-CALDESC:Pranic Psychotherapy Workshop (15-16 May 2021)
BEGIN:VEVENT
DTSTART:20210515T090000
DTEND:20210516T170000
SUMMARY:Pranic Psychotherapy Workshop (15-16 May 2021)
DESCRIPTION:<h4>Gain the power to control the cause.</h4>
LOCATION:Prana World Malaysia | A-3-3 Centrio Hillpark, Bangsar South, KL
END:VEVENT
END:VCALENDAR
