BEGIN:VCALENDAR
VERSION:2.0
PRODID:-//Prana World Malaysia
CALSCALE:GREGORIAN
METHOD:PUBLISH
X-WR-CALNAME:Prana World Malaysia
X-ORIGINAL-URL:https://malaysia.pranaworld.net/event/advanced-pranic-healing-workshop-17-18-may-2025/
X-WR-CALDESC:Advanced Pranic Healing Workshop &#8211; Penang (17-18 May 2025)
BEGIN:VEVENT
DTSTART:20250517T100000
DTEND:20250518T180000
SUMMARY:Advanced Pranic Healing Workshop &#8211; Penang (17-18 May 2025)
DESCRIPTION:<h4>Explore the wonder of color pranas.</h4>
LOCATION:Hall 2 ,Bodhi Heart Sanctuary Penang
END:VEVENT
END:VCALENDAR
