BEGIN:VCALENDAR
VERSION:2.0
PRODID:-//Prana World Malaysia
CALSCALE:GREGORIAN
METHOD:PUBLISH
X-WR-CALNAME:Prana World Malaysia
X-ORIGINAL-URL:https://malaysia.pranaworld.net/event/pranic-psychotherapy-workshop-18-19-dec-2021/
X-WR-CALDESC:Pranic Psychotherapy Workshop (18-19 Dec 2021)
BEGIN:VEVENT
DTSTART:20211218T090000
DTEND:20211219T170000
SUMMARY:Pranic Psychotherapy Workshop (18-19 Dec 2021)
DESCRIPTION:<h4>Gain the power to control the cause.</h4>
LOCATION:Prana World Malaysia | A-3-3 Centrio Hillpark, Bangsar South, KL
END:VEVENT
END:VCALENDAR
