BEGIN:VCALENDAR
VERSION:2.0
PRODID:-//Prana World Malaysia
CALSCALE:GREGORIAN
METHOD:PUBLISH
X-WR-CALNAME:Prana World Malaysia
X-ORIGINAL-URL:https://malaysia.pranaworld.net/event/basic-pranic-healing-workshop-8-9-mar-2025/
X-WR-CALDESC:Basic Pranic Healing Workshop in Penang (8-9 Mar 2025)
BEGIN:VEVENT
DTSTART:20250308T100000
DTEND:20250309T180000
SUMMARY:Basic Pranic Healing Workshop in Penang (8-9 Mar 2025)
DESCRIPTION:<h4>Discover the world of subtle energies.</h4>
LOCATION:Lifeworks Holistic Center
END:VEVENT
END:VCALENDAR
