BEGIN:VCALENDAR
VERSION:2.0
PRODID:-//Prana World Malaysia
CALSCALE:GREGORIAN
METHOD:PUBLISH
X-WR-CALNAME:Prana World Malaysia
X-ORIGINAL-URL:https://malaysia.pranaworld.net/event/advanced-pranic-healing-20-21-jul-24/
X-WR-CALDESC:Advanced Pranic Healing Workshop Penang (20-21 Jul 2024)
BEGIN:VEVENT
DTSTART:20240720T100000
DTEND:20240721T180000
SUMMARY:Advanced Pranic Healing Workshop Penang (20-21 Jul 2024)
DESCRIPTION:<h4>Explore the wonder of color pranas.</h4>
LOCATION:Wisma YMCA, Penang
END:VEVENT
END:VCALENDAR
