BEGIN:VCALENDAR
VERSION:2.0
PRODID:-//Prana World Malaysia
CALSCALE:GREGORIAN
METHOD:PUBLISH
X-WR-CALNAME:Prana World Malaysia
X-ORIGINAL-URL:https://malaysia.pranaworld.net/event/basic-pranic-healing-workshop-25-26-apr/
X-WR-CALDESC:Basic Pranic Healing Workshop (25-26 Apr 2026)
BEGIN:VEVENT
DTSTART:20260425T090000
DTEND:20260426T170000
SUMMARY:Basic Pranic Healing Workshop (25-26 Apr 2026)
DESCRIPTION:<h4>Discover the world of subtle energies.</h4>
LOCATION:Prana World Malaysia | A-3-3 Centrio Hillpark, Bangsar South, KL
END:VEVENT
END:VCALENDAR
