BEGIN:VCALENDAR
VERSION:2.0
PRODID:-//Prana World Malaysia
CALSCALE:GREGORIAN
METHOD:PUBLISH
X-WR-CALNAME:Prana World Malaysia
X-ORIGINAL-URL:https://malaysia.pranaworld.net/event/basic-pranic-healing-workshop-21-22-jun-2025/
X-WR-CALDESC:Basic Pranic Healing Workshop &#8211; Penang (21-22 June 2025)
BEGIN:VEVENT
DTSTART:20250621T100000
DTEND:20250622T180000
SUMMARY:Basic Pranic Healing Workshop &#8211; Penang (21-22 June 2025)
DESCRIPTION:<h4>Discover the world of subtle energies.</h4>
LOCATION:Pranic Healing Penang
END:VEVENT
END:VCALENDAR
