BEGIN:VCALENDAR
VERSION:2.0
PRODID:-//Prana World Malaysia
CALSCALE:GREGORIAN
METHOD:PUBLISH
X-WR-CALNAME:Prana World Malaysia
X-ORIGINAL-URL:https://malaysia.pranaworld.net/event/self-pranic-healing-workshop-26-sep-2021/
X-WR-CALDESC:Online Self Pranic Healing Workshop (26 Sep 2021)
BEGIN:VEVENT
DTSTART:20210926T090000
DTEND:20210926T170000
SUMMARY:Online Self Pranic Healing Workshop (26 Sep 2021)
DESCRIPTION:<h4>Discover the world of subtle energies.</h4>
LOCATION:Prana World Malaysia | A-3-3 Centrio Hillpark, Bangsar South, KL
END:VEVENT
END:VCALENDAR
